BEGIN:VCALENDAR
VERSION:2.0
PRODID:-//SANQC - ECPv4.9.14//NONSGML v1.0//EN
CALSCALE:GREGORIAN
METHOD:PUBLISH
X-WR-CALNAME:SANQC
X-ORIGINAL-URL:https://www.sanqc.ca
X-WR-CALDESC:Events for SANQC
BEGIN:VTIMEZONE
TZID:America/Edmonton
BEGIN:DAYLIGHT
TZOFFSETFROM:-0700
TZOFFSETTO:-0600
TZNAME:MDT
DTSTART:20220313T090000
END:DAYLIGHT
BEGIN:STANDARD
TZOFFSETFROM:-0600
TZOFFSETTO:-0700
TZNAME:MST
DTSTART:20221106T080000
END:STANDARD
END:VTIMEZONE
BEGIN:VEVENT
DTSTART;VALUE=DATE:20220311
DTEND;VALUE=DATE:20220312
DTSTAMP:20260424T043840
CREATED:20220308T221858Z
LAST-MODIFIED:20220308T222849Z
UID:7438-1646956800-1647043199@www.sanqc.ca
SUMMARY:Trivia Time • Where is NOVA?
DESCRIPTION:Our mascot\, NOVA\, is out and about on campus\, meeting our friends from other college areas! Can you guess where NOVA is? Join us for Trivia Time on Fri\, Mar 11 on Facebook & Instagram stories. \nWe’ll post pictures of NOVA and all you need to do is guess where NOVA is. Let NOVA tour you around NorQuest and introduce you to our friends from the college. Winter 2022 NorQuest students who participate have a chance to win a cool prize basket with SANQC swag items and a $50 gift card! \n  \n
URL:https://www.sanqc.ca/event/trivianova/
CATEGORIES:Social Events
ATTACH;FMTTYPE=image/png:/wp-content/uploads/2022/03/trivianova.png
END:VEVENT
END:VCALENDAR