BEGIN:VCALENDAR
VERSION:2.0
PRODID:-//SANQC - ECPv4.9.14//NONSGML v1.0//EN
CALSCALE:GREGORIAN
METHOD:PUBLISH
X-WR-CALNAME:SANQC
X-ORIGINAL-URL:https://www.sanqc.ca
X-WR-CALDESC:Events for SANQC
BEGIN:VTIMEZONE
TZID:America/Edmonton
BEGIN:DAYLIGHT
TZOFFSETFROM:-0700
TZOFFSETTO:-0600
TZNAME:MDT
DTSTART:20190310T090000
END:DAYLIGHT
BEGIN:STANDARD
TZOFFSETFROM:-0600
TZOFFSETTO:-0700
TZNAME:MST
DTSTART:20191103T080000
END:STANDARD
END:VTIMEZONE
BEGIN:VEVENT
DTSTART;TZID=America/Edmonton:20190911T100000
DTEND;TZID=America/Edmonton:20190911T140000
DTSTAMP:20260424T031804
CREATED:20190829T224137Z
LAST-MODIFIED:20190829T224137Z
UID:4020-1568196000-1568210400@www.sanqc.ca
SUMMARY:Volunteer Information Booth
DESCRIPTION:Do you want to be part of a great team\, learn new skills\, make a difference on campus all while having a whole lot of fun? Come to the SANQC volunteer booth to learn about those opportunities\, grab an application and even to sign up on the spot! \nYou can also find more details about the program here. \n
URL:https://www.sanqc.ca/event/volunteer-information-booth-2/
LOCATION:Imagine Hall\, 10215 108 St NW\, Edmonton\, AB\, T5J 1L6\, Canada
CATEGORIES:Volunteer Event
ATTACH;FMTTYPE=image/jpeg:/wp-content/uploads/2019/08/IMG_20190417_124039.jpg
END:VEVENT
END:VCALENDAR