BEGIN:VCALENDAR
VERSION:2.0
PRODID:-//SANQC - ECPv4.9.14//NONSGML v1.0//EN
CALSCALE:GREGORIAN
METHOD:PUBLISH
X-WR-CALNAME:SANQC
X-ORIGINAL-URL:https://www.sanqc.ca
X-WR-CALDESC:Events for SANQC
BEGIN:VTIMEZONE
TZID:America/Edmonton
BEGIN:DAYLIGHT
TZOFFSETFROM:-0700
TZOFFSETTO:-0600
TZNAME:MDT
DTSTART:20200308T090000
END:DAYLIGHT
BEGIN:STANDARD
TZOFFSETFROM:-0600
TZOFFSETTO:-0700
TZNAME:MST
DTSTART:20201101T080000
END:STANDARD
END:VTIMEZONE
BEGIN:VEVENT
DTSTART;TZID=America/Edmonton:20200114T100000
DTEND;TZID=America/Edmonton:20200114T140000
DTSTAMP:20260424T043946
CREATED:20191218T181432Z
LAST-MODIFIED:20191218T182928Z
UID:4580-1578996000-1579010400@www.sanqc.ca
SUMMARY:Volunteer Program Information Booth
DESCRIPTION:Do you want to be part of a great team\, learn new skills\, make a difference on campus all while having a whole lot of fun? Visit us at the SANQC Volunteer Program Information Booth to learn about those opportunities\, grab an application and even to sign up on the spot! \nYou can also find more details about the program here. \n
URL:https://www.sanqc.ca/event/volunteer-program-information-booth/
LOCATION:Atrium (1-001)\, 10215 108 St NW\, Edmonton\, Alberta\, T5J 1L6\, Canada
CATEGORIES:Volunteer Event
ATTACH;FMTTYPE=image/jpeg:/wp-content/uploads/2019/12/WhatsApp-Image-2019-12-18-at-11.24.01-AM.jpeg
END:VEVENT
END:VCALENDAR