BEGIN:VCALENDAR
VERSION:2.0
PRODID:-//SANQC - ECPv4.9.14//NONSGML v1.0//EN
CALSCALE:GREGORIAN
METHOD:PUBLISH
X-WR-CALNAME:SANQC
X-ORIGINAL-URL:https://www.sanqc.ca
X-WR-CALDESC:Events for SANQC
BEGIN:VTIMEZONE
TZID:America/Edmonton
BEGIN:DAYLIGHT
TZOFFSETFROM:-0700
TZOFFSETTO:-0600
TZNAME:MDT
DTSTART:20190310T090000
END:DAYLIGHT
BEGIN:STANDARD
TZOFFSETFROM:-0600
TZOFFSETTO:-0700
TZNAME:MST
DTSTART:20191103T080000
END:STANDARD
END:VTIMEZONE
BEGIN:VEVENT
DTSTART;TZID=America/Edmonton:20190919T090000
DTEND;TZID=America/Edmonton:20190919T150000
DTSTAMP:20260424T090011
CREATED:20190905T212836Z
LAST-MODIFIED:20190912T185247Z
UID:4087-1568883600-1568905200@www.sanqc.ca
SUMMARY:Week of Welcome • Indigenous Day of Welcome
DESCRIPTION:Don’t miss out on the Fall term Indigenous Day of Welcome. This is a day to support our continuing and incoming Indigenous students and raise awareness around what services and supports NorQuest College offers. \nThis term’s Indigenous Day event will feature: \n9 am – Pipe Ceremony in the Indigenous Student Centre\n10:30 am – 1 pm – Dancers and singing performance followed by lunch in the Atrium\n1 – 3 pm – Lanyard making in the Indigenous Student Centre \nEveryone is welcome! \n
URL:https://www.sanqc.ca/event/week-of-welcome-%e2%80%a2-indigenous-day-of-welcome/
LOCATION:Miyo-Pimâtisiwin Centre\, 1-151\, 10215 108 St NW\, Edmonton\, AB\, T5J 1L6\, Canada
CATEGORIES:NorQuest Event
ATTACH;FMTTYPE=image/png:/wp-content/uploads/2018/12/Pic4.png
END:VEVENT
END:VCALENDAR