BEGIN:VCALENDAR
VERSION:2.0
PRODID:-//SANQC - ECPv4.9.14//NONSGML v1.0//EN
CALSCALE:GREGORIAN
METHOD:PUBLISH
X-WR-CALNAME:SANQC
X-ORIGINAL-URL:https://www.sanqc.ca
X-WR-CALDESC:Events for SANQC
BEGIN:VTIMEZONE
TZID:America/Edmonton
BEGIN:DAYLIGHT
TZOFFSETFROM:-0700
TZOFFSETTO:-0600
TZNAME:MDT
DTSTART:20180311T090000
END:DAYLIGHT
BEGIN:STANDARD
TZOFFSETFROM:-0600
TZOFFSETTO:-0700
TZNAME:MST
DTSTART:20181104T080000
END:STANDARD
END:VTIMEZONE
BEGIN:VEVENT
DTSTART;TZID=America/Edmonton:20180919T110000
DTEND;TZID=America/Edmonton:20180919T130000
DTSTAMP:20260423T224634
CREATED:20180817T193325Z
LAST-MODIFIED:20180817T193325Z
UID:2522-1537354800-1537362000@www.sanqc.ca
SUMMARY:Week of Welcome: Bingo
DESCRIPTION:It’s Week of Welcome so that means BINGO! Join SANQC for 3 fun & FREE rounds of bingo and a chance to win great prizes. Drop in for a single game or stay for the entire event. \nQuick speedo games are played between rounds if you are only able to stay for a short period of time. \nAll supplies and snacks are provided. \nStudent ID is required. \n
URL:https://www.sanqc.ca/event/week-of-welcome-bingo-2/
LOCATION:Atrium (1-001)\, 10215 108 St NW\, Edmonton\, Alberta\, T5J 1L6\, Canada
CATEGORIES:Social Events
ATTACH;FMTTYPE=image/jpeg:/wp-content/uploads/2018/08/IMG_6703.jpg
END:VEVENT
END:VCALENDAR