BEGIN:VCALENDAR
VERSION:2.0
PRODID:-//SANQC - ECPv4.9.14//NONSGML v1.0//EN
CALSCALE:GREGORIAN
METHOD:PUBLISH
X-WR-CALNAME:SANQC
X-ORIGINAL-URL:https://www.sanqc.ca
X-WR-CALDESC:Events for SANQC
BEGIN:VTIMEZONE
TZID:America/Edmonton
BEGIN:DAYLIGHT
TZOFFSETFROM:-0700
TZOFFSETTO:-0600
TZNAME:MDT
DTSTART:20190310T090000
END:DAYLIGHT
BEGIN:STANDARD
TZOFFSETFROM:-0600
TZOFFSETTO:-0700
TZNAME:MST
DTSTART:20191103T080000
END:STANDARD
END:VTIMEZONE
BEGIN:VEVENT
DTSTART;TZID=America/Edmonton:20190121T114500
DTEND;TZID=America/Edmonton:20190121T130000
DTSTAMP:20260423T213316
CREATED:20181218T220541Z
LAST-MODIFIED:20181218T220541Z
UID:3375-1548071100-1548075600@www.sanqc.ca
SUMMARY:Week of Welcome: Caffeination Station
DESCRIPTION:Happy Monday! Enjoy a coffee or hot chocolate from your favourite Learner Centre staff. Welcome back! \n
URL:https://www.sanqc.ca/event/week-of-welcome-caffeination-station/
LOCATION:Learner Centre\, 10215 108 Street NW\, Edmonton\, AB\, T5J 1L6\, Canada
CATEGORIES:NorQuest Event
ATTACH;FMTTYPE=image/jpeg:/wp-content/uploads/2018/12/CS.jpg
END:VEVENT
END:VCALENDAR