BEGIN:VCALENDAR
VERSION:2.0
PRODID:-//SANQC - ECPv4.9.14//NONSGML v1.0//EN
CALSCALE:GREGORIAN
METHOD:PUBLISH
X-WR-CALNAME:SANQC
X-ORIGINAL-URL:https://www.sanqc.ca
X-WR-CALDESC:Events for SANQC
BEGIN:VTIMEZONE
TZID:America/Edmonton
BEGIN:DAYLIGHT
TZOFFSETFROM:-0700
TZOFFSETTO:-0600
TZNAME:MDT
DTSTART:20190310T090000
END:DAYLIGHT
BEGIN:STANDARD
TZOFFSETFROM:-0600
TZOFFSETTO:-0700
TZNAME:MST
DTSTART:20191103T080000
END:STANDARD
END:VTIMEZONE
BEGIN:VEVENT
DTSTART;TZID=America/Edmonton:20190121T090000
DTEND;TZID=America/Edmonton:20190121T110000
DTSTAMP:20260423T212839
CREATED:20181218T220200Z
LAST-MODIFIED:20190103T180500Z
UID:3373-1548061200-1548068400@www.sanqc.ca
SUMMARY:Week of Welcome: Clubs Day
DESCRIPTION:Join SANQC for breakfast\, juice and to meet some clubs. There will be an information booth for anyone interested in building a new club on campus or you can join one of our existing clubs and participate in the fun activities they organize. \nThe student clubs will be there for the entirety of the event but breakfast will be on a first come\, first served basis as quantities are limited and your student ID is required. \n
URL:https://www.sanqc.ca/event/week-of-welcome-clubs-day-2/
LOCATION:Atrium (1-001)\, 10215 108 St NW\, Edmonton\, Alberta\, T5J 1L6\, Canada
CATEGORIES:Student Club Event
ATTACH;FMTTYPE=image/jpeg:/wp-content/uploads/2018/12/Clubs.jpg
END:VEVENT
END:VCALENDAR