BEGIN:VCALENDAR
VERSION:2.0
PRODID:-//SANQC - ECPv4.9.14//NONSGML v1.0//EN
CALSCALE:GREGORIAN
METHOD:PUBLISH
X-WR-CALNAME:SANQC
X-ORIGINAL-URL:https://www.sanqc.ca
X-WR-CALDESC:Events for SANQC
BEGIN:VTIMEZONE
TZID:America/Edmonton
BEGIN:DAYLIGHT
TZOFFSETFROM:-0700
TZOFFSETTO:-0600
TZNAME:MDT
DTSTART:20180311T090000
END:DAYLIGHT
BEGIN:STANDARD
TZOFFSETFROM:-0600
TZOFFSETTO:-0700
TZNAME:MST
DTSTART:20181104T080000
END:STANDARD
END:VTIMEZONE
BEGIN:VEVENT
DTSTART;TZID=America/Edmonton:20180918T110000
DTEND;TZID=America/Edmonton:20180918T130000
DTSTAMP:20260423T195922
CREATED:20180817T192947Z
LAST-MODIFIED:20180830T170836Z
UID:2519-1537268400-1537275600@www.sanqc.ca
SUMMARY:Week of Welcome: Clubs Day BBQ
DESCRIPTION:Interested in joining a student club or starting one of your own? Stop by and find out how it all works! \nWe’ll have both beef and vegetarian hot dogs straight off the BBQ starting at 11 am. \nQuantities are limited and it is first come\, first served\, so don’t be late! \nThe BBQ portion of this event is for students only\, student ID will be required. \n
URL:https://www.sanqc.ca/event/week-of-welcome-clubs-day-bbq/
LOCATION:Outside Southeast Entrance SCFL\, 10215 108 St NW\, Edmonton\, Alberta\, T5J 1L6\, Canada
CATEGORIES:Student Club Event
ATTACH;FMTTYPE=image/jpeg:/wp-content/uploads/2018/08/BBQ.jpg
END:VEVENT
END:VCALENDAR