BEGIN:VCALENDAR
VERSION:2.0
PRODID:-//SANQC - ECPv4.9.14//NONSGML v1.0//EN
CALSCALE:GREGORIAN
METHOD:PUBLISH
X-WR-CALNAME:SANQC
X-ORIGINAL-URL:https://www.sanqc.ca
X-WR-CALDESC:Events for SANQC
BEGIN:VTIMEZONE
TZID:America/Edmonton
BEGIN:DAYLIGHT
TZOFFSETFROM:-0700
TZOFFSETTO:-0600
TZNAME:MDT
DTSTART:20210314T090000
END:DAYLIGHT
BEGIN:STANDARD
TZOFFSETFROM:-0600
TZOFFSETTO:-0700
TZNAME:MST
DTSTART:20211107T080000
END:STANDARD
END:VTIMEZONE
BEGIN:VEVENT
DTSTART;TZID=America/Edmonton:20210120T140000
DTEND;TZID=America/Edmonton:20210120T150000
DTSTAMP:20260424T102724
CREATED:20210101T001852Z
LAST-MODIFIED:20210101T001852Z
UID:5912-1611151200-1611154800@www.sanqc.ca
SUMMARY:Week of Welcome • Gartic with NorQuest eSports
DESCRIPTION:The NorQuest eSports group is joining us for Week of Welcome this term and they’re bringing you Gartic! This online game challenges you to identify what words are being drawn by other players. If you have played the popular board game Pictionary\, Gartic is very similar\, and very fun! \nJoin in the fun on Wed\, Jan 20 from 2 – 3 pm on Microsoft Teams here and make sure you have an account prepared at Gartic.io \nMake sure to keep on eye out for their other activities that include games like Minecraft Bedrock Edition\, Valorant\, Rocket League and more! You can find them on Twitter\, Twitch and Discord! \n
URL:https://www.sanqc.ca/event/week-of-welcome-gartic-with-norquest-esports/
CATEGORIES:NorQuest Event,Social Events
ATTACH;FMTTYPE=image/png:/wp-content/uploads/2020/12/NorQuest-Esports-Logo.png
END:VEVENT
END:VCALENDAR