BEGIN:VCALENDAR
VERSION:2.0
PRODID:-//SANQC - ECPv4.9.14//NONSGML v1.0//EN
CALSCALE:GREGORIAN
METHOD:PUBLISH
X-WR-CALNAME:SANQC
X-ORIGINAL-URL:https://www.sanqc.ca
X-WR-CALDESC:Events for SANQC
BEGIN:VTIMEZONE
TZID:America/Edmonton
BEGIN:DAYLIGHT
TZOFFSETFROM:-0700
TZOFFSETTO:-0600
TZNAME:MDT
DTSTART:20200308T090000
END:DAYLIGHT
BEGIN:STANDARD
TZOFFSETFROM:-0600
TZOFFSETTO:-0700
TZNAME:MST
DTSTART:20201101T080000
END:STANDARD
END:VTIMEZONE
BEGIN:VEVENT
DTSTART;TZID=America/Edmonton:20200123T090000
DTEND;TZID=America/Edmonton:20200123T150000
DTSTAMP:20260424T092333
CREATED:20200108T163513Z
LAST-MODIFIED:20200120T174224Z
UID:4598-1579770000-1579791600@www.sanqc.ca
SUMMARY:Week of Welcome: Indigenous Day of Welcome
DESCRIPTION:Don’t miss out on the Winter term Indigenous Day of Welcome. This is a day to support our continuing and incoming Indigenous students and to raise awareness around what services and supports NorQuest College offers. \nThis term’s Indigenous Day event will feature: \n9 am – Pipe Ceremony\n11 am – Drumming and dancing performances followed by lunch\n1 – 3 pm – Lanyard making \nEveryone is welcome! \n
URL:https://www.sanqc.ca/event/week-of-welcome-indigenous-day-of-welcome-3/
LOCATION:Miyo-Pimâtisiwin Centre\, 1-151\, 10215 108 St NW\, Edmonton\, AB\, T5J 1L6\, Canada
CATEGORIES:NorQuest Event
ATTACH;FMTTYPE=image/png:/wp-content/uploads/2018/12/Pic4.png
END:VEVENT
END:VCALENDAR