BEGIN:VCALENDAR
VERSION:2.0
PRODID:-//SANQC - ECPv4.9.14//NONSGML v1.0//EN
CALSCALE:GREGORIAN
METHOD:PUBLISH
X-WR-CALNAME:SANQC
X-ORIGINAL-URL:https://www.sanqc.ca
X-WR-CALDESC:Events for SANQC
BEGIN:VTIMEZONE
TZID:America/Edmonton
BEGIN:DAYLIGHT
TZOFFSETFROM:-0700
TZOFFSETTO:-0600
TZNAME:MDT
DTSTART:20180311T090000
END:DAYLIGHT
BEGIN:STANDARD
TZOFFSETFROM:-0600
TZOFFSETTO:-0700
TZNAME:MST
DTSTART:20181104T080000
END:STANDARD
END:VTIMEZONE
BEGIN:VEVENT
DTSTART;TZID=America/Edmonton:20180920T113000
DTEND;TZID=America/Edmonton:20180920T130000
DTSTAMP:20260423T224736
CREATED:20180823T203543Z
LAST-MODIFIED:20180823T203543Z
UID:2560-1537443000-1537448400@www.sanqc.ca
SUMMARY:Week of Welcome: Indigenous Day of Welcome
DESCRIPTION:Every year NorQuest College hosts an Indigenous Day during our Week of Welcome. This is a day to support our continuing and incoming Indigenous students and raise awareness around what services and supports NorQuest College offers. \nAt this year’s Indigenous Day event we will be serving lunch and traditional Indigenous entertainers will be performing. \n11:30 am – formal program\n12 pm – blessing of food\n12 – 1 pm – lunch and entertainment \nEveryone is welcome! \n
URL:https://www.sanqc.ca/event/week-of-welcome-indigenous-day-of-welcome/
LOCATION:Atrium (1-001)\, 10215 108 St NW\, Edmonton\, Alberta\, T5J 1L6\, Canada
CATEGORIES:Social Events
END:VEVENT
END:VCALENDAR