BEGIN:VCALENDAR
VERSION:2.0
PRODID:-//SANQC - ECPv4.9.14//NONSGML v1.0//EN
CALSCALE:GREGORIAN
METHOD:PUBLISH
X-WR-CALNAME:SANQC
X-ORIGINAL-URL:https://www.sanqc.ca
X-WR-CALDESC:Events for SANQC
BEGIN:VTIMEZONE
TZID:America/Edmonton
BEGIN:DAYLIGHT
TZOFFSETFROM:-0700
TZOFFSETTO:-0600
TZNAME:MDT
DTSTART:20210314T090000
END:DAYLIGHT
BEGIN:STANDARD
TZOFFSETFROM:-0600
TZOFFSETTO:-0700
TZNAME:MST
DTSTART:20211107T080000
END:STANDARD
END:VTIMEZONE
BEGIN:VEVENT
DTSTART;TZID=America/Edmonton:20210914T113000
DTEND;TZID=America/Edmonton:20210914T123000
DTSTAMP:20260424T044104
CREATED:20210827T164958Z
LAST-MODIFIED:20210903T170757Z
UID:6558-1631619000-1631622600@www.sanqc.ca
SUMMARY:Week of Welcome • Kahoot
DESCRIPTION:Did you know Italians are very superstitious? Or that blowing your nose loudly is considered rude in Japan? \nIn today’s multicultural world\, it’s so important to keep an open mind and know about the diverse cultural norms from all around the world! \nJoin NorQuest International for two intercultural Kahoot games – a fun way to test your knowledge about what you may know! \nTwo lucky NorQuest students that participate will win $20 Amazon gift cards! \nYou can find this session on Blackboard here. \n  \n
URL:https://www.sanqc.ca/event/week-of-welcome-kahoot/
LOCATION:Blackboard
CATEGORIES:NorQuest Event
ATTACH;FMTTYPE=image/jpeg:/wp-content/uploads/2021/04/InternationalKahoot.jpg
END:VEVENT
END:VCALENDAR