BEGIN:VCALENDAR
VERSION:2.0
PRODID:-//SANQC - ECPv4.9.14//NONSGML v1.0//EN
CALSCALE:GREGORIAN
METHOD:PUBLISH
X-WR-CALNAME:SANQC
X-ORIGINAL-URL:https://www.sanqc.ca
X-WR-CALDESC:Events for SANQC
BEGIN:VTIMEZONE
TZID:America/Edmonton
BEGIN:DAYLIGHT
TZOFFSETFROM:-0700
TZOFFSETTO:-0600
TZNAME:MDT
DTSTART:20180311T090000
END:DAYLIGHT
BEGIN:STANDARD
TZOFFSETFROM:-0600
TZOFFSETTO:-0700
TZNAME:MST
DTSTART:20181104T080000
END:STANDARD
END:VTIMEZONE
BEGIN:VEVENT
DTSTART;TZID=America/Edmonton:20180516T110000
DTEND;TZID=America/Edmonton:20180516T140000
DTSTAMP:20260424T000807
CREATED:20180426T210957Z
LAST-MODIFIED:20180426T210957Z
UID:2403-1526468400-1526479200@www.sanqc.ca
SUMMARY:Week of Welcome: Post-it Secrets
DESCRIPTION:Come and visit our “Post-it” Secrets board and share your biggest fears about coming back to school. You might be surprised by how many other students share those same fears. \nWe’ll have treats and information about some great resources available to you on campus. Fill out a short survey to be entered in a prize draw. \n
URL:https://www.sanqc.ca/event/week-of-welcome-post-it-secrets/
LOCATION:SANQC Multi-Purpose Space (1-096)\, 10215 108 St NW\, Edmonton\, Alberta\, T5J 1L6\, Canada
CATEGORIES:Mental Health Events
ATTACH;FMTTYPE=image/jpeg:/wp-content/uploads/2018/04/IMG_5090.jpg
END:VEVENT
END:VCALENDAR