BEGIN:VCALENDAR
VERSION:2.0
PRODID:-//SANQC - ECPv4.9.14//NONSGML v1.0//EN
CALSCALE:GREGORIAN
METHOD:PUBLISH
X-WR-CALNAME:SANQC
X-ORIGINAL-URL:https://www.sanqc.ca
X-WR-CALDESC:Events for SANQC
BEGIN:VTIMEZONE
TZID:America/Edmonton
BEGIN:DAYLIGHT
TZOFFSETFROM:-0700
TZOFFSETTO:-0600
TZNAME:MDT
DTSTART:20200308T090000
END:DAYLIGHT
BEGIN:STANDARD
TZOFFSETFROM:-0600
TZOFFSETTO:-0700
TZNAME:MST
DTSTART:20201101T080000
END:STANDARD
END:VTIMEZONE
BEGIN:VEVENT
DTSTART;TZID=America/Edmonton:20200122T110000
DTEND;TZID=America/Edmonton:20200122T123000
DTSTAMP:20260424T085640
CREATED:20191218T184104Z
LAST-MODIFIED:20191218T193751Z
UID:4594-1579690800-1579696200@www.sanqc.ca
SUMMARY:Week of Welcome: Poutine Party
DESCRIPTION:Join SANQC for a Poutine Party! Starting at 11 am\, the first 250 students will enjoy a free poutine\, a drink and some pictures with friends and classmates at our photobooth to create some great back to school memories! \nPoutine will be served on a first come\, first serve basis while quantities last. \n1 poutine per student and student ID will be required. \n
URL:https://www.sanqc.ca/event/week-of-welcome-poutine-party/
LOCATION:SANQC Multi-Purpose Space (1-096)\, 10215 108 St NW\, Edmonton\, Alberta\, T5J 1L6\, Canada
CATEGORIES:Social Events
ATTACH;FMTTYPE=image/jpeg:/wp-content/uploads/2019/12/IMG_2166-scaled.jpg
END:VEVENT
END:VCALENDAR