BEGIN:VCALENDAR
VERSION:2.0
PRODID:-//SANQC - ECPv4.9.14//NONSGML v1.0//EN
CALSCALE:GREGORIAN
METHOD:PUBLISH
X-WR-CALNAME:SANQC
X-ORIGINAL-URL:https://www.sanqc.ca
X-WR-CALDESC:Events for SANQC
BEGIN:VTIMEZONE
TZID:America/Edmonton
BEGIN:DAYLIGHT
TZOFFSETFROM:-0700
TZOFFSETTO:-0600
TZNAME:MDT
DTSTART:20190310T090000
END:DAYLIGHT
BEGIN:STANDARD
TZOFFSETFROM:-0600
TZOFFSETTO:-0700
TZNAME:MST
DTSTART:20191103T080000
END:STANDARD
END:VTIMEZONE
BEGIN:VEVENT
DTSTART;TZID=America/Edmonton:20190516T110000
DTEND;TZID=America/Edmonton:20190516T130000
DTSTAMP:20260424T044108
CREATED:20190423T184339Z
LAST-MODIFIED:20190423T184339Z
UID:3857-1558004400-1558011600@www.sanqc.ca
SUMMARY:Week of Welcome: SANQC Open House
DESCRIPTION:Stop by the SANQC Office (1-114) to find out what the Students’ Association does for you! \nWin some swag from the spin wheel\, enjoy some delicious cupcakes and ask us any questions you have! Let us know what you’d like to see and find out how our programs\, services\, events and more could benefit you in ways you may not already know. \nWe are here to make your experience the best it can be. \n
URL:https://www.sanqc.ca/event/week-of-welcome-sanqc-open-house-2/
LOCATION:SANQC Office (1-114)\, 10215 108 St NW\, Edmonton\, Alberta\, Canada
CATEGORIES:Social Events
ATTACH;FMTTYPE=image/jpeg:/wp-content/uploads/2019/04/IMG_9928.jpg
END:VEVENT
END:VCALENDAR