BEGIN:VCALENDAR
VERSION:2.0
PRODID:-//SANQC - ECPv4.9.14//NONSGML v1.0//EN
CALSCALE:GREGORIAN
METHOD:PUBLISH
X-WR-CALNAME:SANQC
X-ORIGINAL-URL:https://www.sanqc.ca
X-WR-CALDESC:Events for SANQC
BEGIN:VTIMEZONE
TZID:America/Edmonton
BEGIN:DAYLIGHT
TZOFFSETFROM:-0700
TZOFFSETTO:-0600
TZNAME:MDT
DTSTART:20190310T090000
END:DAYLIGHT
BEGIN:STANDARD
TZOFFSETFROM:-0600
TZOFFSETTO:-0700
TZNAME:MST
DTSTART:20191103T080000
END:STANDARD
END:VTIMEZONE
BEGIN:VEVENT
DTSTART;TZID=America/Edmonton:20190917T113000
DTEND;TZID=America/Edmonton:20190917T133000
DTSTAMP:20260424T055621
CREATED:20190830T181425Z
LAST-MODIFIED:20190830T181425Z
UID:4048-1568719800-1568727000@www.sanqc.ca
SUMMARY:Week of Welcome: Tasty Tuesday
DESCRIPTION:\nJoin SANQC for the Week of Welcome: Tasty Tuesday in the Atrium. Starting at 11:30 am\, the first 250 students will enjoy a free poutine and take some fun pictures with your friends at the photo booth to create great back to school memories.\n\nPoutine will be served on a first come\, first served basis while quantities last. 1 per student and student ID will be required.\n\n
URL:https://www.sanqc.ca/event/week-of-welcome-tasty-tuesday/
LOCATION:Atrium (1-001)\, 10215 108 St NW\, Edmonton\, Alberta\, T5J 1L6\, Canada
CATEGORIES:Social Events
ATTACH;FMTTYPE=image/jpeg:/wp-content/uploads/2019/08/IMG_9764.jpg
END:VEVENT
END:VCALENDAR