BEGIN:VCALENDAR
VERSION:2.0
PRODID:-//SANQC - ECPv4.9.14//NONSGML v1.0//EN
CALSCALE:GREGORIAN
METHOD:PUBLISH
X-WR-CALNAME:SANQC
X-ORIGINAL-URL:https://www.sanqc.ca
X-WR-CALDESC:Events for SANQC
BEGIN:VTIMEZONE
TZID:America/Edmonton
BEGIN:DAYLIGHT
TZOFFSETFROM:-0700
TZOFFSETTO:-0600
TZNAME:MDT
DTSTART:20210314T090000
END:DAYLIGHT
BEGIN:STANDARD
TZOFFSETFROM:-0600
TZOFFSETTO:-0700
TZNAME:MST
DTSTART:20211107T080000
END:STANDARD
END:VTIMEZONE
BEGIN:VEVENT
DTSTART;TZID=America/Edmonton:20210916T140000
DTEND;TZID=America/Edmonton:20210916T150000
DTSTAMP:20260423T214338
CREATED:20210827T164441Z
LAST-MODIFIED:20210827T165045Z
UID:6556-1631800800-1631804400@www.sanqc.ca
SUMMARY:Week of Welcome • Tetr.io
DESCRIPTION:Come play Tetr.io and learn about the NorQuest Esports community! \nTetr.io is an online game where players compete in Tetris style block stacking with other players. If you have played the popular game Tetris\, Tetr.io is very similar\, and very fun! \nNorQuest Esports is a community who gather to have fun and play games. You can watch us or you can join in to play. We play what you play! Our community has over 400 members and is growing every day. Some highlights you do not want to miss include Minecraft Bedrock Edition\, Valorant\, Rocket League\, and more. \nWe have a community of staff and students who game regularly and we host events every Tuesday and Thursday with many other events planned during the month as well. Find us on Twitter\, Twitch and Discord! \nJoin in the fun on Microsoft Teams here. \n  \n
URL:https://www.sanqc.ca/event/week-of-welcome-tetr-io/
CATEGORIES:NorQuest Event
ATTACH;FMTTYPE=image/png:/wp-content/uploads/2020/12/NorQuest-Esports-Logo.png
END:VEVENT
END:VCALENDAR