BEGIN:VCALENDAR
VERSION:2.0
PRODID:-//SANQC - ECPv4.9.14//NONSGML v1.0//EN
CALSCALE:GREGORIAN
METHOD:PUBLISH
X-WR-CALNAME:SANQC
X-ORIGINAL-URL:https://www.sanqc.ca
X-WR-CALDESC:Events for SANQC
BEGIN:VTIMEZONE
TZID:America/Edmonton
BEGIN:DAYLIGHT
TZOFFSETFROM:-0700
TZOFFSETTO:-0600
TZNAME:MDT
DTSTART:20170312T090000
END:DAYLIGHT
BEGIN:STANDARD
TZOFFSETFROM:-0600
TZOFFSETTO:-0700
TZNAME:MST
DTSTART:20171105T080000
END:STANDARD
END:VTIMEZONE
BEGIN:VEVENT
DTSTART;TZID=America/Edmonton:20170920T120000
DTEND;TZID=America/Edmonton:20170920T140000
DTSTAMP:20260424T112159
CREATED:20170811T202056Z
LAST-MODIFIED:20170913T210316Z
UID:576-1505908800-1505916000@www.sanqc.ca
SUMMARY:Week of Welcome: Clubs Day
DESCRIPTION:Come by during the Student Services Fair to meet our Student Clubs. Find out how to join a club or start one of your own! \n
URL:https://www.sanqc.ca/event/week-welcome-clubs-day/
LOCATION:SANQC Multi-Purpose Space (1-096)\, 10215 108 St NW\, Edmonton\, Alberta\, T5J 1L6\, Canada
CATEGORIES:Social Events
END:VEVENT
END:VCALENDAR