BEGIN:VCALENDAR
VERSION:2.0
PRODID:-//SANQC - ECPv4.9.14//NONSGML v1.0//EN
CALSCALE:GREGORIAN
METHOD:PUBLISH
X-WR-CALNAME:SANQC
X-ORIGINAL-URL:https://www.sanqc.ca
X-WR-CALDESC:Events for SANQC
BEGIN:VTIMEZONE
TZID:America/Edmonton
BEGIN:DAYLIGHT
TZOFFSETFROM:-0700
TZOFFSETTO:-0600
TZNAME:MDT
DTSTART:20170312T090000
END:DAYLIGHT
BEGIN:STANDARD
TZOFFSETFROM:-0600
TZOFFSETTO:-0700
TZNAME:MST
DTSTART:20171105T080000
END:STANDARD
END:VTIMEZONE
BEGIN:VEVENT
DTSTART;TZID=America/Edmonton:20170918T110000
DTEND;TZID=America/Edmonton:20170918T140000
DTSTAMP:20260424T160421
CREATED:20170811T201831Z
LAST-MODIFIED:20170913T210240Z
UID:569-1505732400-1505743200@www.sanqc.ca
SUMMARY:Week of Welcome: Post-it Secrets
DESCRIPTION:Come and visit our “Post-it” Secrets board and share your biggest fears about coming back to school. You might be surprised by how many other students share those same fears. We’ll have treats and information about some great resources available to you on campus. Fill out a short survey to be entered in a prize draw. \n
URL:https://www.sanqc.ca/event/week-welcome-post-secrets/
LOCATION:SANQC Multi-Purpose Space (1-096)\, 10215 108 St NW\, Edmonton\, Alberta\, T5J 1L6\, Canada
CATEGORIES:Mental Health Events
ATTACH;FMTTYPE=image/jpeg:/wp-content/uploads/2017/08/Section-3-Post-it.jpg
END:VEVENT
END:VCALENDAR