BEGIN:VCALENDAR
VERSION:2.0
PRODID:-//SANQC - ECPv4.9.14//NONSGML v1.0//EN
CALSCALE:GREGORIAN
METHOD:PUBLISH
X-WR-CALNAME:SANQC
X-ORIGINAL-URL:https://www.sanqc.ca
X-WR-CALDESC:Events for SANQC
BEGIN:VTIMEZONE
TZID:America/Edmonton
BEGIN:DAYLIGHT
TZOFFSETFROM:-0700
TZOFFSETTO:-0600
TZNAME:MDT
DTSTART:20190310T090000
END:DAYLIGHT
BEGIN:STANDARD
TZOFFSETFROM:-0600
TZOFFSETTO:-0700
TZNAME:MST
DTSTART:20191103T080000
END:STANDARD
END:VTIMEZONE
BEGIN:VEVENT
DTSTART;TZID=America/Edmonton:20190116T110000
DTEND;TZID=America/Edmonton:20190116T140000
DTSTAMP:20260423T214102
CREATED:20181218T215410Z
LAST-MODIFIED:20190116T183359Z
UID:3371-1547636400-1547647200@www.sanqc.ca
SUMMARY:Winter Fun Day
DESCRIPTION:Join SANQC for some winter time fun! You can find us in the Atrium as well as out on the south patio. Make your own headwarmer\, decorate (and eat) some sugar cookies\, enjoy a hot chocolate bar and make sure you find us outside for maple taffy rolling! \n
URL:https://www.sanqc.ca/event/winter-fun-day/
CATEGORIES:Social Events
END:VEVENT
END:VCALENDAR