BEGIN:VCALENDAR
VERSION:2.0
PRODID:-//SANQC - ECPv4.9.14//NONSGML v1.0//EN
CALSCALE:GREGORIAN
METHOD:PUBLISH
X-WR-CALNAME:SANQC
X-ORIGINAL-URL:https://www.sanqc.ca
X-WR-CALDESC:Events for SANQC
BEGIN:VTIMEZONE
TZID:America/Edmonton
BEGIN:DAYLIGHT
TZOFFSETFROM:-0700
TZOFFSETTO:-0600
TZNAME:MDT
DTSTART:20220313T090000
END:DAYLIGHT
BEGIN:STANDARD
TZOFFSETFROM:-0600
TZOFFSETTO:-0700
TZNAME:MST
DTSTART:20221106T080000
END:STANDARD
END:VTIMEZONE
BEGIN:VEVENT
DTSTART;TZID=America/Edmonton:20220120T120000
DTEND;TZID=America/Edmonton:20220120T130000
DTSTAMP:20260424T072058
CREATED:20220112T184218Z
LAST-MODIFIED:20220112T210101Z
UID:7396-1642680000-1642683600@www.sanqc.ca
SUMMARY:Week of Welcome • Spill the Tea
DESCRIPTION:Come join our social space and meet other NorQuest students! The event includes trivia and other friendly mini-games and get to know some of the Learner Centre staff and services. \nYou can find us on Blackboard here. \n  \n
URL:https://www.sanqc.ca/event/winter2022spillthetea/
LOCATION:Blackboard
CATEGORIES:NorQuest Event,Social Events
ATTACH;FMTTYPE=image/jpeg:/wp-content/uploads/2022/01/wow-Jan-2022.jpg
ORGANIZER;CN="NorQuest%20College%20Library":MAILTO:library@norquest.ca
END:VEVENT
END:VCALENDAR