BEGIN:VCALENDAR
VERSION:2.0
PRODID:-//SANQC - ECPv4.9.14//NONSGML v1.0//EN
CALSCALE:GREGORIAN
METHOD:PUBLISH
X-WR-CALNAME:SANQC
X-ORIGINAL-URL:https://www.sanqc.ca
X-WR-CALDESC:Events for SANQC
BEGIN:VTIMEZONE
TZID:America/Edmonton
BEGIN:DAYLIGHT
TZOFFSETFROM:-0700
TZOFFSETTO:-0600
TZNAME:MDT
DTSTART:20220313T090000
END:DAYLIGHT
BEGIN:STANDARD
TZOFFSETFROM:-0600
TZOFFSETTO:-0700
TZNAME:MST
DTSTART:20221106T080000
END:STANDARD
END:VTIMEZONE
BEGIN:VEVENT
DTSTART;TZID=America/Edmonton:20220119T120000
DTEND;TZID=America/Edmonton:20220119T130000
DTSTAMP:20260424T053848
CREATED:20220112T183449Z
LAST-MODIFIED:20220112T210058Z
UID:7391-1642593600-1642597200@www.sanqc.ca
SUMMARY:Week of Welcome • Wellness Wednesday
DESCRIPTION:Join the Centre for Growth and Harmony as they launch their Wellness Wednesday Winter series! The Wellness Wednesdays series is made up of open virtual events for students to connect and learn about all things wellness related\, and to find out about services offered by the Wellness Team. \nEach session they’ll explore a new topic such as meditation\, journaling\, fitness\, nutrition and more as a group. You’ll discuss ways in which you can schedule time into your week to practice simple self-care and share stories of success with each other. \nNo registration needed\, simply join the fun on Blackboard here at 12 noon on Wed\, Jan 19! \n  \n
URL:https://www.sanqc.ca/event/winter2022wellnesswednesday/
LOCATION:Blackboard
CATEGORIES:Mental Health Events,NorQuest Event
ATTACH;FMTTYPE=image/jpeg:/wp-content/uploads/2020/12/WellnessWednesday.jpg
END:VEVENT
END:VCALENDAR