BEGIN:VCALENDAR
VERSION:2.0
PRODID:-//SANQC - ECPv4.9.14//NONSGML v1.0//EN
CALSCALE:GREGORIAN
METHOD:PUBLISH
X-WR-CALNAME:SANQC
X-ORIGINAL-URL:https://www.sanqc.ca
X-WR-CALDESC:Events for SANQC
BEGIN:VTIMEZONE
TZID:America/Edmonton
BEGIN:DAYLIGHT
TZOFFSETFROM:-0700
TZOFFSETTO:-0600
TZNAME:MDT
DTSTART:20240310T090000
END:DAYLIGHT
BEGIN:STANDARD
TZOFFSETFROM:-0600
TZOFFSETTO:-0700
TZNAME:MST
DTSTART:20241103T080000
END:STANDARD
END:VTIMEZONE
BEGIN:VEVENT
DTSTART;TZID=America/Edmonton:20240124T150000
DTEND;TZID=America/Edmonton:20240124T210000
DTSTAMP:20260424T024244
CREATED:20231128T214126Z
LAST-MODIFIED:20231128T222133Z
UID:8791-1706108400-1706130000@www.sanqc.ca
SUMMARY:Week of Welcome • Esports Drop-in Game Day
DESCRIPTION:Come watch\, learn\, and play during the NorQuest Esports Game Day on Wed\, Jan 24 from 3 – 9 pm at the Innovation Studio on the 5th floor of the Civic Employee Legacy Tower (CELT). \nKick it in FIFA on their XBOX’s\, play a round of Tekken\, or enjoy the competitive world of Valorant on one of the gaming desktops. \nAll are welcome to come and play for free! \n  \n
URL:https://www.sanqc.ca/event/winter24esports/
LOCATION:Innovation Studio\, 10215 108 Street NW\, Edmonton\, Alberta\, T5J 1L6\, Canada
CATEGORIES:NorQuest Event,Social Events
ATTACH;FMTTYPE=image/png:/wp-content/uploads/2023/11/EsportsWinter24.png
END:VEVENT
END:VCALENDAR