BEGIN:VCALENDAR
VERSION:2.0
PRODID:-//SANQC - ECPv4.9.14//NONSGML v1.0//EN
CALSCALE:GREGORIAN
METHOD:PUBLISH
X-WR-CALNAME:SANQC
X-ORIGINAL-URL:https://www.sanqc.ca
X-WR-CALDESC:Events for SANQC
BEGIN:VTIMEZONE
TZID:America/Edmonton
BEGIN:DAYLIGHT
TZOFFSETFROM:-0700
TZOFFSETTO:-0600
TZNAME:MDT
DTSTART:20240310T090000
END:DAYLIGHT
BEGIN:STANDARD
TZOFFSETFROM:-0600
TZOFFSETTO:-0700
TZNAME:MST
DTSTART:20241103T080000
END:STANDARD
END:VTIMEZONE
BEGIN:VEVENT
DTSTART;TZID=America/Edmonton:20240125T103000
DTEND;TZID=America/Edmonton:20240125T123000
DTSTAMP:20260424T015401
CREATED:20231128T220153Z
LAST-MODIFIED:20231211T202207Z
UID:8803-1706178600-1706185800@www.sanqc.ca
SUMMARY:Week of Welcome • Students' Council Fest
DESCRIPTION:Your Students’ Council is excited to welcome YOU to the 2024 Winter term! \nHead over to Imagine Hall to meet them and find out all about your Students’ Association. Learn what we do and how we’ve got your back. Spin our SANQC swag wheel\, win cool prizes\, and have a blast! See you there! \n  \n
URL:https://www.sanqc.ca/event/winter24scfest/
LOCATION:Imagine Hall\, 10215 108 St NW\, Edmonton\, AB\, T5J 1L6\, Canada
CATEGORIES:Advocacy Event,Social Events,Students' Council
ATTACH;FMTTYPE=image/png:/wp-content/uploads/2023/12/Students-Council-Fest.png
END:VEVENT
END:VCALENDAR