BEGIN:VCALENDAR
VERSION:2.0
PRODID:-//SANQC - ECPv4.9.14//NONSGML v1.0//EN
CALSCALE:GREGORIAN
METHOD:PUBLISH
X-WR-CALNAME:SANQC
X-ORIGINAL-URL:https://www.sanqc.ca
X-WR-CALDESC:Events for SANQC
BEGIN:VTIMEZONE
TZID:America/Edmonton
BEGIN:DAYLIGHT
TZOFFSETFROM:-0700
TZOFFSETTO:-0600
TZNAME:MDT
DTSTART:20250309T090000
END:DAYLIGHT
BEGIN:STANDARD
TZOFFSETFROM:-0600
TZOFFSETTO:-0700
TZNAME:MST
DTSTART:20251102T080000
END:STANDARD
END:VTIMEZONE
BEGIN:VEVENT
DTSTART;TZID=America/Edmonton:20250120T110000
DTEND;TZID=America/Edmonton:20250120T130000
DTSTAMP:20260424T005404
CREATED:20240821T212043Z
LAST-MODIFIED:20241217T171409Z
UID:9217-1737370800-1737378000@www.sanqc.ca
SUMMARY:Week of Welcome • Bingo
DESCRIPTION:IT’S BINGO TIME! Join SANQC for some fun and FREE rounds of BINGO for a chance to win great prizes. \nDrop in for a single game or stay for the entire event. We will be playing quick speedo rounds between full games if you are only able to stay for a short period of time. \nSnacks and supplies will be provided. \nStudent ID is required to claim a prize. \n  \n
URL:https://www.sanqc.ca/event/winter25bingo/
LOCATION:Atrium (1-001)\, 10215 108 St NW\, Edmonton\, Alberta\, T5J 1L6\, Canada
CATEGORIES:Social Events
ATTACH;FMTTYPE=image/png:/wp-content/uploads/2024/12/Bingo.png
END:VEVENT
END:VCALENDAR