BEGIN:VCALENDAR
VERSION:2.0
PRODID:-//SANQC - ECPv4.9.14//NONSGML v1.0//EN
CALSCALE:GREGORIAN
METHOD:PUBLISH
X-WR-CALNAME:SANQC
X-ORIGINAL-URL:https://www.sanqc.ca
X-WR-CALDESC:Events for SANQC
BEGIN:VTIMEZONE
TZID:America/Edmonton
BEGIN:DAYLIGHT
TZOFFSETFROM:-0700
TZOFFSETTO:-0600
TZNAME:MDT
DTSTART:20250309T090000
END:DAYLIGHT
BEGIN:STANDARD
TZOFFSETFROM:-0600
TZOFFSETTO:-0700
TZNAME:MST
DTSTART:20251102T080000
END:STANDARD
END:VTIMEZONE
BEGIN:VEVENT
DTSTART;TZID=America/Edmonton:20250124T120000
DTEND;TZID=America/Edmonton:20250124T133000
DTSTAMP:20260424T015355
CREATED:20241216T174514Z
LAST-MODIFIED:20241216T174559Z
UID:9455-1737720000-1737725400@www.sanqc.ca
SUMMARY:Week of Welcome • Paint Nite
DESCRIPTION:Come and join Irene Barnes\, Social Worker at the Centre for Growth & Harmony as she guides you through a mindful painting class! Similar to a Paint Nite structure\, Irene will take you through each step of creating your masterpiece in a very informal class suitable for all skill levels! \nDon’t like the colour scheme? No problem! We celebrate creative freedom and you can add whatever personal touches you like along the way. As always\, you get to take your finished painting home with you and hopefully some great memories from an afternoon of connection\, conversation\, and fun! \nREGISTER HERE. This class is limited to 20 participants. Sign up before those spots are gone! \nIf you register and can no longer attend\, please email wellness@norquest.ca as soon as possible so they can offer your spot to someone on the waitlist. \n  \n
URL:https://www.sanqc.ca/event/winter25paint/
LOCATION:SANQC Multi-Purpose Space (1-096)\, 10215 108 St NW\, Edmonton\, Alberta\, T5J 1L6\, Canada
CATEGORIES:NorQuest Event
ATTACH;FMTTYPE=image/jpeg:/wp-content/uploads/2024/12/Paint.jpg
END:VEVENT
END:VCALENDAR