BEGIN:VCALENDAR
VERSION:2.0
PRODID:-//SANQC - ECPv4.9.14//NONSGML v1.0//EN
CALSCALE:GREGORIAN
METHOD:PUBLISH
X-WR-CALNAME:SANQC
X-ORIGINAL-URL:https://www.sanqc.ca
X-WR-CALDESC:Events for SANQC
BEGIN:VTIMEZONE
TZID:America/Edmonton
BEGIN:DAYLIGHT
TZOFFSETFROM:-0700
TZOFFSETTO:-0600
TZNAME:MDT
DTSTART:20250309T090000
END:DAYLIGHT
BEGIN:STANDARD
TZOFFSETFROM:-0600
TZOFFSETTO:-0700
TZNAME:MST
DTSTART:20251102T080000
END:STANDARD
END:VTIMEZONE
BEGIN:VEVENT
DTSTART;TZID=America/Edmonton:20250122T103000
DTEND;TZID=America/Edmonton:20250122T133000
DTSTAMP:20260424T002726
CREATED:20250108T180543Z
LAST-MODIFIED:20250113T222431Z
UID:9489-1737541800-1737552600@www.sanqc.ca
SUMMARY:Week of Welcome • NorQuest Pride Lucky Draw
DESCRIPTION:The NorQuest Pride Lounge is officially open! \nVisit their table in the Atrium to find out why you should get involved\, and what they have in store this term. You can also enter their lucky draw for a chance to win a gift basket of your choice! They’ll also have stickers and sweet treats! \nThen head up to the Pride Lounge (11:30 AM-1:30 PM) on the 5th floor of CELT (5-215A) to check out the space\, chat\, play some fun board games and try some queer origami! Snacks will also be on offer at the Pride lounge. \n  \n
URL:https://www.sanqc.ca/event/winter25pride/
CATEGORIES:NorQuest Event
ATTACH;FMTTYPE=image/png:/wp-content/uploads/2025/01/pl2.png
ORGANIZER;CN="NorQuest%20Pride":MAILTO:pride@norquest.ca
END:VEVENT
END:VCALENDAR