BEGIN:VCALENDAR
VERSION:2.0
PRODID:-//SANQC - ECPv4.9.14//NONSGML v1.0//EN
CALSCALE:GREGORIAN
METHOD:PUBLISH
X-WR-CALNAME:SANQC
X-ORIGINAL-URL:https://www.sanqc.ca
X-WR-CALDESC:Events for SANQC
BEGIN:VTIMEZONE
TZID:America/Edmonton
BEGIN:DAYLIGHT
TZOFFSETFROM:-0700
TZOFFSETTO:-0600
TZNAME:MDT
DTSTART:20250309T090000
END:DAYLIGHT
BEGIN:STANDARD
TZOFFSETFROM:-0600
TZOFFSETTO:-0700
TZNAME:MST
DTSTART:20251102T080000
END:STANDARD
END:VTIMEZONE
BEGIN:VEVENT
DTSTART;TZID=America/Edmonton:20250123T103000
DTEND;TZID=America/Edmonton:20250123T123000
DTSTAMP:20260424T021229
CREATED:20250113T153544Z
LAST-MODIFIED:20250114T175439Z
UID:9502-1737628200-1737635400@www.sanqc.ca
SUMMARY:Week of Welcome • Students' Council Fest
DESCRIPTION:Your Students’ Council is excited to welcome YOU to the 2025 Winter term! \nHead over to the Atrium to meet them and find out all about your Students’ Association. Learn what we do and how we’ve got your back. Play musical chairs\, spin our SANQC swag wheel\, win cool prizes\, and have a blast! See you there! \n  \n
URL:https://www.sanqc.ca/event/winter25scfest/
LOCATION:Atrium (1-001)\, 10215 108 St NW\, Edmonton\, Alberta\, T5J 1L6\, Canada
CATEGORIES:Students' Council
ATTACH;FMTTYPE=image/png:/wp-content/uploads/2025/01/SC-Fest.png
END:VEVENT
END:VCALENDAR