BEGIN:VCALENDAR
VERSION:2.0
PRODID:-//SANQC - ECPv4.9.14//NONSGML v1.0//EN
CALSCALE:GREGORIAN
METHOD:PUBLISH
X-WR-CALNAME:SANQC
X-ORIGINAL-URL:https://www.sanqc.ca
X-WR-CALDESC:Events for SANQC
BEGIN:VTIMEZONE
TZID:America/Edmonton
BEGIN:DAYLIGHT
TZOFFSETFROM:-0700
TZOFFSETTO:-0600
TZNAME:MDT
DTSTART:20260308T090000
END:DAYLIGHT
BEGIN:STANDARD
TZOFFSETFROM:-0600
TZOFFSETTO:-0700
TZNAME:MST
DTSTART:20261101T080000
END:STANDARD
END:VTIMEZONE
BEGIN:VEVENT
DTSTART;TZID=America/Edmonton:20260120T130000
DTEND;TZID=America/Edmonton:20260120T160000
DTSTAMP:20260423T212503
CREATED:20251125T204541Z
LAST-MODIFIED:20251217T221857Z
UID:10123-1768914000-1768924800@www.sanqc.ca
SUMMARY:Week of Welcome • Beading and Crafting with the miyo-pimâtisiwin Centre
DESCRIPTION:Stop by the miyo-pimâtisiwin Centre on Tue\, Jan 20 from 1 – 4 pm to create beaded keychains and make mini Tipis while enjoying some tea and Bannock. \nEach participant will be able to put their name in a draw for a gift card. \n  \n
URL:https://www.sanqc.ca/event/winter26beading/
LOCATION:Miyo-Pimâtisiwin Centre\, 1-151\, 10215 108 St NW\, Edmonton\, AB\, T5J 1L6\, Canada
CATEGORIES:NorQuest Event
ATTACH;FMTTYPE=image/png:/wp-content/uploads/2025/11/Designer-1.png
END:VEVENT
END:VCALENDAR