BEGIN:VCALENDAR
VERSION:2.0
PRODID:-//SANQC - ECPv4.9.14//NONSGML v1.0//EN
CALSCALE:GREGORIAN
METHOD:PUBLISH
X-WR-CALNAME:SANQC
X-ORIGINAL-URL:https://www.sanqc.ca
X-WR-CALDESC:Events for SANQC
BEGIN:VTIMEZONE
TZID:America/Edmonton
BEGIN:DAYLIGHT
TZOFFSETFROM:-0700
TZOFFSETTO:-0600
TZNAME:MDT
DTSTART:20260308T090000
END:DAYLIGHT
BEGIN:STANDARD
TZOFFSETFROM:-0600
TZOFFSETTO:-0700
TZNAME:MST
DTSTART:20261101T080000
END:STANDARD
END:VTIMEZONE
BEGIN:VEVENT
DTSTART;TZID=America/Edmonton:20260122T110000
DTEND;TZID=America/Edmonton:20260122T130000
DTSTAMP:20260423T223150
CREATED:20251203T214323Z
LAST-MODIFIED:20251203T214323Z
UID:10154-1769079600-1769086800@www.sanqc.ca
SUMMARY:Week of Welcome • International 360 Photo Booth
DESCRIPTION:Join NorQuest International for their 360 Photo Booth during Week of Welcome! 📸 \nThey’ll have a 360 photo booth\, good vibes\, music\, and fun props—perfect for capturing your first-week memories. \nGrab your friends\, strike a pose\, and don’t forget to tag us on Instagram @norquestinternational for a chance to win a Tim Hortons gift card or some awesome NorQuest swag! \nYou don’t want to miss it! \n  \n
URL:https://www.sanqc.ca/event/winter26international/
LOCATION:Atrium (1-001)\, 10215 108 St NW\, Edmonton\, Alberta\, T5J 1L6\, Canada
CATEGORIES:NorQuest Event
ATTACH;FMTTYPE=image/jpeg:/wp-content/uploads/2024/08/International.jpg
END:VEVENT
END:VCALENDAR