BEGIN:VCALENDAR
VERSION:2.0
PRODID:-//SANQC - ECPv4.9.14//NONSGML v1.0//EN
CALSCALE:GREGORIAN
METHOD:PUBLISH
X-WR-CALNAME:SANQC
X-ORIGINAL-URL:https://www.sanqc.ca
X-WR-CALDESC:Events for SANQC
BEGIN:VTIMEZONE
TZID:America/Edmonton
BEGIN:DAYLIGHT
TZOFFSETFROM:-0700
TZOFFSETTO:-0600
TZNAME:MDT
DTSTART:20260308T090000
END:DAYLIGHT
BEGIN:STANDARD
TZOFFSETFROM:-0600
TZOFFSETTO:-0700
TZNAME:MST
DTSTART:20261101T080000
END:STANDARD
END:VTIMEZONE
BEGIN:VEVENT
DTSTART;TZID=America/Edmonton:20260123T114500
DTEND;TZID=America/Edmonton:20260123T124500
DTSTAMP:20260423T224340
CREATED:20251203T170901Z
LAST-MODIFIED:20260120T221904Z
UID:10149-1769168700-1769172300@www.sanqc.ca
SUMMARY:Week of Welcome • Learner Centre 101 (Cancelled)
DESCRIPTION:Learner Centre 101 will no longer be taking place on Fri\, Jan 23. We look forward to seeing them as part of the Spring term Week of Welcome in May! \nIf you wish to learn more about the Learner Centre and the services available to students\, please visit them on the second floor of SCFL (2-180). \n  \n
URL:https://www.sanqc.ca/event/winter26lc101/
LOCATION:Learner Centre\, 10215 108 Street NW\, Edmonton\, AB\, T5J 1L6\, Canada
CATEGORIES:NorQuest Event
ATTACH;FMTTYPE=image/png:/wp-content/uploads/2025/12/LC101.png
ORGANIZER;CN="NorQuest%20College%20Library":MAILTO:library@norquest.ca
END:VEVENT
END:VCALENDAR