BEGIN:VCALENDAR
VERSION:2.0
PRODID:-//SANQC - ECPv4.9.14//NONSGML v1.0//EN
CALSCALE:GREGORIAN
METHOD:PUBLISH
X-WR-CALNAME:SANQC
X-ORIGINAL-URL:https://www.sanqc.ca
X-WR-CALDESC:Events for SANQC
BEGIN:VTIMEZONE
TZID:America/Edmonton
BEGIN:DAYLIGHT
TZOFFSETFROM:-0700
TZOFFSETTO:-0600
TZNAME:MDT
DTSTART:20260308T090000
END:DAYLIGHT
BEGIN:STANDARD
TZOFFSETFROM:-0600
TZOFFSETTO:-0700
TZNAME:MST
DTSTART:20261101T080000
END:STANDARD
END:VTIMEZONE
BEGIN:VEVENT
DTSTART;TZID=America/Edmonton:20260122T143000
DTEND;TZID=America/Edmonton:20260122T160000
DTSTAMP:20260423T224253
CREATED:20251205T152237Z
LAST-MODIFIED:20251210T152007Z
UID:10157-1769092200-1769097600@www.sanqc.ca
SUMMARY:Week of Welcome • Pride Lounge Winter Mingle
DESCRIPTION:Come hang out at the Pride Lounge and hear a little bit about the work (and fun) that they have going on all year. \nGrab a cookie and a warm beverage\, make a new friend\, and find out how you can get involved with making NorQuest College a more inclusive space for everyone! \n  \n
URL:https://www.sanqc.ca/event/winter26pride/
LOCATION:Pride Lounge\, 5-215A\, CELT\, Edmonton\, Alberta\, T5J 1L6\, Canada
CATEGORIES:NorQuest Event
ATTACH;FMTTYPE=image/png:/wp-content/uploads/2025/12/1920x1080-2.png
END:VEVENT
END:VCALENDAR