BEGIN:VCALENDAR
VERSION:2.0
PRODID:-//SANQC - ECPv4.9.14//NONSGML v1.0//EN
CALSCALE:GREGORIAN
METHOD:PUBLISH
X-WR-CALNAME:SANQC
X-ORIGINAL-URL:https://www.sanqc.ca
X-WR-CALDESC:Events for SANQC
BEGIN:VTIMEZONE
TZID:America/Edmonton
BEGIN:DAYLIGHT
TZOFFSETFROM:-0700
TZOFFSETTO:-0600
TZNAME:MDT
DTSTART:20260308T090000
END:DAYLIGHT
BEGIN:STANDARD
TZOFFSETFROM:-0600
TZOFFSETTO:-0700
TZNAME:MST
DTSTART:20261101T080000
END:STANDARD
END:VTIMEZONE
BEGIN:VEVENT
DTSTART;TZID=America/Edmonton:20260119T113000
DTEND;TZID=America/Edmonton:20260119T133000
DTSTAMP:20260423T201647
CREATED:20251203T165331Z
LAST-MODIFIED:20251217T161454Z
UID:10147-1768822200-1768829400@www.sanqc.ca
SUMMARY:Week of Welcome • Students' Council Fest
DESCRIPTION:Start this year off with excitement! Stop by the Atrium on Mon\, Jan 19 from 11:30 am – 1:30 pm to play some games\, win some swag\, and meet some of YOUR amazing Students’ Council representatives. \nEnjoy crowd-favorites like: \n\nSpin the Prize Wheel\nMusical Chairs\nMini Basketball & Ring Toss\n\n  \n
URL:https://www.sanqc.ca/event/winter26scfest/
LOCATION:Atrium (1-001)\, 10215 108 St NW\, Edmonton\, Alberta\, T5J 1L6\, Canada
CATEGORIES:Social Events,Students' Council
ATTACH;FMTTYPE=image/png:/wp-content/uploads/2025/12/WOW26WinterStudentsCouncil.png
END:VEVENT
END:VCALENDAR