BEGIN:VCALENDAR
VERSION:2.0
PRODID:-//SANQC - ECPv4.9.14//NONSGML v1.0//EN
CALSCALE:GREGORIAN
METHOD:PUBLISH
X-WR-CALNAME:SANQC
X-ORIGINAL-URL:https://www.sanqc.ca
X-WR-CALDESC:Events for SANQC
BEGIN:VTIMEZONE
TZID:America/Edmonton
BEGIN:DAYLIGHT
TZOFFSETFROM:-0700
TZOFFSETTO:-0600
TZNAME:MDT
DTSTART:20210314T090000
END:DAYLIGHT
BEGIN:STANDARD
TZOFFSETFROM:-0600
TZOFFSETTO:-0700
TZNAME:MST
DTSTART:20211107T080000
END:STANDARD
END:VTIMEZONE
BEGIN:VEVENT
DTSTART;TZID=America/Edmonton:20210118T130000
DTEND;TZID=America/Edmonton:20210118T150000
DTSTAMP:20260424T043834
CREATED:20201231T231903Z
LAST-MODIFIED:20210104T212139Z
UID:5898-1610974800-1610982000@www.sanqc.ca
SUMMARY:Week of Welcome • Online Bingo
DESCRIPTION:We’re kicking off Week of Welcome with ONLINE BINGO! Join us for some fun and games on Mon\, Jan 18 starting at 1 pm. You’ll get a virtual bingo card to use for a chance to win some great prizes! Drop in for a single game or stay for all of them! \nEach student can win a maximum of two prizes during the event. Winners will be asked to provide their name\, student ID and NorQuest email address so that their prize can be sent to them. \nJoin the fun on Blackboard here. \n
URL:https://www.sanqc.ca/event/wowbingo-3/
LOCATION:Blackboard
CATEGORIES:Social Events
ATTACH;FMTTYPE=image/jpeg:/wp-content/uploads/2020/12/Bingo.jpeg
END:VEVENT
END:VCALENDAR