BEGIN:VCALENDAR
VERSION:2.0
PRODID:-//SANQC - ECPv4.9.14//NONSGML v1.0//EN
CALSCALE:GREGORIAN
METHOD:PUBLISH
X-WR-CALNAME:SANQC
X-ORIGINAL-URL:https://www.sanqc.ca
X-WR-CALDESC:Events for SANQC
BEGIN:VTIMEZONE
TZID:America/Edmonton
BEGIN:DAYLIGHT
TZOFFSETFROM:-0700
TZOFFSETTO:-0600
TZNAME:MDT
DTSTART:20200308T090000
END:DAYLIGHT
BEGIN:STANDARD
TZOFFSETFROM:-0600
TZOFFSETTO:-0700
TZNAME:MST
DTSTART:20201101T080000
END:STANDARD
END:VTIMEZONE
BEGIN:VEVENT
DTSTART;TZID=America/Edmonton:20200513T130000
DTEND;TZID=America/Edmonton:20200513T150000
DTSTAMP:20260424T073504
CREATED:20200506T162004Z
LAST-MODIFIED:20200506T223035Z
UID:5092-1589374800-1589382000@www.sanqc.ca
SUMMARY:Week of Welcome • Online Bingo
DESCRIPTION:It wouldn’t be Week of Welcome without BINGO! The action starts on Wed\, May 13 at 1 pm on Blackboard . You’ll get a virtual bingo card to play for a chance at great prizes! Drop in for a single game or stay for the entire event. \nEach student can win a maximum of two prizes during the event. Winners will be asked to provide their name\, student ID and NorQuest email address so that their prize can be sent to them. \nClick here to join in the fun on Blackboard. \n
URL:https://www.sanqc.ca/event/wowbingo/
LOCATION:Blackboard
CATEGORIES:Social Events
ATTACH;FMTTYPE=image/jpeg:/wp-content/uploads/2020/05/Bingo.jpeg
END:VEVENT
END:VCALENDAR