BEGIN:VCALENDAR
VERSION:2.0
PRODID:-//SANQC - ECPv4.9.14//NONSGML v1.0//EN
CALSCALE:GREGORIAN
METHOD:PUBLISH
X-WR-CALNAME:SANQC
X-ORIGINAL-URL:https://www.sanqc.ca
X-WR-CALDESC:Events for SANQC
BEGIN:VTIMEZONE
TZID:America/Edmonton
BEGIN:DAYLIGHT
TZOFFSETFROM:-0700
TZOFFSETTO:-0600
TZNAME:MDT
DTSTART:20210314T090000
END:DAYLIGHT
BEGIN:STANDARD
TZOFFSETFROM:-0600
TZOFFSETTO:-0700
TZNAME:MST
DTSTART:20211107T080000
END:STANDARD
END:VTIMEZONE
BEGIN:VEVENT
DTSTART;TZID=America/Edmonton:20210121T150000
DTEND;TZID=America/Edmonton:20210121T170000
DTSTAMP:20260424T094643
CREATED:20201231T235601Z
LAST-MODIFIED:20210104T212304Z
UID:5907-1611241200-1611248400@www.sanqc.ca
SUMMARY:Week of Welcome • Movie "Night"
DESCRIPTION:\nGrab a blanket and a snack then join the NorQuest Library on Thu\, Jan 21 at 3:00 PM for a movie “night!” featuring Monsters Inc! \n\n\nYou can join the event here. \n\n\nAs a NorQuest student\, you have access to this and many other videos and films that you can watch for class or for fun – check out their website for more information! If you need help\, ask them using the live chat on their website. \n\n
URL:https://www.sanqc.ca/event/wowmovienight/
LOCATION:Blackboard
CATEGORIES:NorQuest Event,Social Events
ATTACH;FMTTYPE=image/jpeg:/wp-content/uploads/2020/12/Movie-Night.jpg
ORGANIZER;CN="NorQuest%20College%20Library":MAILTO:library@norquest.ca
END:VEVENT
END:VCALENDAR