BEGIN:VCALENDAR
VERSION:2.0
PRODID:-//SANQC - ECPv4.9.14//NONSGML v1.0//EN
CALSCALE:GREGORIAN
METHOD:PUBLISH
X-WR-CALNAME:SANQC
X-ORIGINAL-URL:https://www.sanqc.ca
X-WR-CALDESC:Events for SANQC
BEGIN:VTIMEZONE
TZID:America/Edmonton
BEGIN:DAYLIGHT
TZOFFSETFROM:-0700
TZOFFSETTO:-0600
TZNAME:MDT
DTSTART:20200308T090000
END:DAYLIGHT
BEGIN:STANDARD
TZOFFSETFROM:-0600
TZOFFSETTO:-0700
TZNAME:MST
DTSTART:20201101T080000
END:STANDARD
END:VTIMEZONE
BEGIN:VEVENT
DTSTART;TZID=America/Edmonton:20200512T190000
DTEND;TZID=America/Edmonton:20200512T210000
DTSTAMP:20260424T062023
CREATED:20200506T160649Z
LAST-MODIFIED:20200507T164421Z
UID:5088-1589310000-1589317200@www.sanqc.ca
SUMMARY:Week of Welcome • Netflix Watch Party
DESCRIPTION:Join SANQC for our Week of Welcome Netflix Watch Party! Connect with your NorQuest friends on Tue\, May 12 at 7 pm. We’ll take suggestions for what movie to watch on our Instagram and Facebook stories then you’ll have a chance to vote for which movie we’ll watch. \nWe’ll be doing a draw for a $50 gift card during the movie so make sure you’re there! \n
URL:https://www.sanqc.ca/event/wownetflixparty/
CATEGORIES:Social Events
ATTACH;FMTTYPE=image/jpeg:/wp-content/uploads/2020/05/Netflix.jpeg
END:VEVENT
END:VCALENDAR