BEGIN:VCALENDAR
VERSION:2.0
PRODID:-//SANQC - ECPv4.9.14//NONSGML v1.0//EN
CALSCALE:GREGORIAN
METHOD:PUBLISH
X-WR-CALNAME:SANQC
X-ORIGINAL-URL:https://www.sanqc.ca
X-WR-CALDESC:Events for SANQC
BEGIN:VTIMEZONE
TZID:America/Edmonton
BEGIN:DAYLIGHT
TZOFFSETFROM:-0700
TZOFFSETTO:-0600
TZNAME:MDT
DTSTART:20200308T090000
END:DAYLIGHT
BEGIN:STANDARD
TZOFFSETFROM:-0600
TZOFFSETTO:-0700
TZNAME:MST
DTSTART:20201101T080000
END:STANDARD
END:VTIMEZONE
BEGIN:VEVENT
DTSTART;VALUE=DATE:20200915
DTEND;VALUE=DATE:20200916
DTSTAMP:20260424T132722
CREATED:20200830T212336Z
LAST-MODIFIED:20200830T212547Z
UID:5262-1600128000-1600214399@www.sanqc.ca
SUMMARY:Week of Welcome • SANQC Online Open House
DESCRIPTION:Find out more about who YOUR Students’ Association is\, what we do and how we are here for you by checking out our Online Open House on our Facebook and Instagram stories on Tue\, Sep 15. \nLearn about Students’ Council\, SANQC programs\, services and more! You can even win a great prize when you take part in our Online Open House Trivia. Hope to see you there! \nFind us on Facebook and Instagram @norquestsa \n
URL:https://www.sanqc.ca/event/wowopenhouse-2/
CATEGORIES:Social Events
ATTACH;FMTTYPE=image/jpeg:/wp-content/uploads/2020/08/SANQCOpenHouse.jpeg
END:VEVENT
END:VCALENDAR