BEGIN:VCALENDAR
VERSION:2.0
PRODID:-//SANQC - ECPv4.9.14//NONSGML v1.0//EN
CALSCALE:GREGORIAN
METHOD:PUBLISH
X-WR-CALNAME:SANQC
X-ORIGINAL-URL:https://www.sanqc.ca
X-WR-CALDESC:Events for SANQC
BEGIN:VTIMEZONE
TZID:America/Edmonton
BEGIN:DAYLIGHT
TZOFFSETFROM:-0700
TZOFFSETTO:-0600
TZNAME:MDT
DTSTART:20210314T090000
END:DAYLIGHT
BEGIN:STANDARD
TZOFFSETFROM:-0600
TZOFFSETTO:-0700
TZNAME:MST
DTSTART:20211107T080000
END:STANDARD
END:VTIMEZONE
BEGIN:VEVENT
DTSTART;VALUE=DATE:20210122
DTEND;VALUE=DATE:20210123
DTSTAMP:20260424T085323
CREATED:20201231T232330Z
LAST-MODIFIED:20201231T232330Z
UID:5901-1611273600-1611359999@www.sanqc.ca
SUMMARY:Week of Welcome • SANQC Online Open House
DESCRIPTION:Find out more about who YOUR Students’ Association is\, what we do and how we are here for you by checking out our Online Open House on our Facebook and Instagram stories on Fri\, Jan 22. \nLearn about Students’ Council\, SANQC programs\, services and more! You can even win a great prize when you take part in our Online Open House Trivia. Hope to see you there! \nFollow us on Facebook and Instagram @norquestsa so you don’t miss out on the fun! \n
URL:https://www.sanqc.ca/event/wowopenhouse-3/
CATEGORIES:Social Events
ATTACH;FMTTYPE=image/jpeg:/wp-content/uploads/2020/12/OpenHouse.jpeg
END:VEVENT
END:VCALENDAR