BEGIN:VCALENDAR
VERSION:2.0
PRODID:-//SANQC - ECPv4.9.14//NONSGML v1.0//EN
CALSCALE:GREGORIAN
METHOD:PUBLISH
X-WR-CALNAME:SANQC
X-ORIGINAL-URL:https://www.sanqc.ca
X-WR-CALDESC:Events for SANQC
BEGIN:VTIMEZONE
TZID:America/Edmonton
BEGIN:DAYLIGHT
TZOFFSETFROM:-0700
TZOFFSETTO:-0600
TZNAME:MDT
DTSTART:20220313T090000
END:DAYLIGHT
BEGIN:STANDARD
TZOFFSETFROM:-0600
TZOFFSETTO:-0700
TZNAME:MST
DTSTART:20221106T080000
END:STANDARD
END:VTIMEZONE
BEGIN:VEVENT
DTSTART;TZID=America/Edmonton:20220519T120000
DTEND;TZID=America/Edmonton:20220519T130000
DTSTAMP:20260424T053259
CREATED:20220510T205034Z
LAST-MODIFIED:20220513T204513Z
UID:7617-1652961600-1652965200@www.sanqc.ca
SUMMARY:Week of Welcome • Spill the Tea
DESCRIPTION:Stop by the social space in the Learner Centre Awareness Alcove (TV area at the front of the library) and meet other NorQuest students! \nThis event includes trivia and other friendly mini-games so you’ll get to know some of the Learner Centre staff and their services. \n  \n
URL:https://www.sanqc.ca/event/wowspring22spillthetea/
LOCATION:Learner Centre\, 10215 108 Street NW\, Edmonton\, AB\, T5J 1L6\, Canada
CATEGORIES:NorQuest Event,Social Events
ATTACH;FMTTYPE=image/jpeg:/wp-content/uploads/2022/05/wow-May-2022.jpg
ORGANIZER;CN="NorQuest%20College%20Library":MAILTO:library@norquest.ca
END:VEVENT
END:VCALENDAR