BEGIN:VCALENDAR
VERSION:2.0
PRODID:-//SANQC - ECPv4.9.14//NONSGML v1.0//EN
CALSCALE:GREGORIAN
METHOD:PUBLISH
X-WR-CALNAME:SANQC
X-ORIGINAL-URL:https://www.sanqc.ca
X-WR-CALDESC:Events for SANQC
BEGIN:VTIMEZONE
TZID:America/Edmonton
BEGIN:DAYLIGHT
TZOFFSETFROM:-0700
TZOFFSETTO:-0600
TZNAME:MDT
DTSTART:20220313T090000
END:DAYLIGHT
BEGIN:STANDARD
TZOFFSETFROM:-0600
TZOFFSETTO:-0700
TZNAME:MST
DTSTART:20221106T080000
END:STANDARD
END:VTIMEZONE
BEGIN:VEVENT
DTSTART;TZID=America/Edmonton:20220516T103000
DTEND;TZID=America/Edmonton:20220516T133000
DTSTAMP:20260424T015517
CREATED:20220506T170547Z
LAST-MODIFIED:20220506T170547Z
UID:7608-1652697000-1652707800@www.sanqc.ca
SUMMARY:Week of Welcome • Students' Council Fest
DESCRIPTION:Your Students’ Council is kicking off Week of Welcome and they want to see YOU! \nJoin them for some yummy cupcakes\, get pictures with your friends at our photo booth\, play a game of prize pong\, spin our giving wheel to get some fun SANQC swag\, and have loads of FUN! \nBe one of the first 150 students to join us and you’ll also get a fun fiesta welcome kit! First come\, first served\, while supplies last. \n  \n
URL:https://www.sanqc.ca/event/wowspring22studentscouncil/
LOCATION:Atrium (1-001)\, 10215 108 St NW\, Edmonton\, Alberta\, T5J 1L6\, Canada
CATEGORIES:Social Events,Students' Council
ATTACH;FMTTYPE=image/png:/wp-content/uploads/2022/05/May-WOW-SC-Fest.png
END:VEVENT
END:VCALENDAR