BEGIN:VCALENDAR
VERSION:2.0
PRODID:-//SANQC - ECPv4.9.14//NONSGML v1.0//EN
CALSCALE:GREGORIAN
METHOD:PUBLISH
X-WR-CALNAME:SANQC
X-ORIGINAL-URL:https://www.sanqc.ca
X-WR-CALDESC:Events for SANQC
BEGIN:VTIMEZONE
TZID:America/Edmonton
BEGIN:DAYLIGHT
TZOFFSETFROM:-0700
TZOFFSETTO:-0600
TZNAME:MDT
DTSTART:20200308T090000
END:DAYLIGHT
BEGIN:STANDARD
TZOFFSETFROM:-0600
TZOFFSETTO:-0700
TZNAME:MST
DTSTART:20201101T080000
END:STANDARD
END:VTIMEZONE
BEGIN:VEVENT
DTSTART;TZID=America/Edmonton:20201124T140000
DTEND;TZID=America/Edmonton:20201124T160000
DTSTAMP:20260424T031748
CREATED:20201109T015937Z
LAST-MODIFIED:20201112T161429Z
UID:5459-1606226400-1606233600@www.sanqc.ca
SUMMARY:Crafting with SANQC • DIY Decorative Yarn Balls & Origami Bookmarks
DESCRIPTION:Join us on Blackboard to learn how to make beautiful decorative yarn balls that you can use all around your home to celebrate all types of holidays or just for fun! \nWe will also be showing you how to make cute origami paper bookmarks that you can use to remember your place in your textbooks or favorite novels! \nCurrent Fall term NorQuest students will get a chance to win a great crafting gift basket. \nSupplies needed: Paper\, 1-3 colors of yarn\, 2-3 balloons\, glue/modge podge\, scissors \n
URL:https://www.sanqc.ca/event/yarnbookmarkcrafting/
LOCATION:Blackboard
CATEGORIES:Social Events
ATTACH;FMTTYPE=image/jpeg:/wp-content/uploads/2020/11/Crafting-e1605197654885.jpeg
END:VEVENT
END:VCALENDAR